BEGIN:VCALENDAR
VERSION:2.0
METHOD:PUBLISH
BEGIN:VEVENT
UID:WILD_APRICOT_EVENT_3121720_SESSION_1
DTSTART:20190111T170000Z
DTEND:20190112T130000Z
SUMMARY:Fairlie Cruisy 300 [Non BRM]
LOCATION:Fairlie\, South Canterbuey
DESCRIPTION:https://kiwirandonneurs.org.nz/event-3121720\n\nDescription:\n A nice diverse loop taking in the vast MacKenzie Basin\, Waitaki Valley\, a short section of SH1 and then the quiet backroads through Pareora Gorge back to Fairlie.\n  Photo:\n  Map:\n  \n\n  Route link: \n https://ridewithgps.com/routes/28450587\n  Event Type:\n 300 km (330k)\n  NOTE:\n  This is NOT a BRM ride so cannot be used as a qualifier for PBP\n\n  If you are looking for a 300 BRM try this ride on 26th Jan.\n  Road surface:\nAll sealed\n  Deadline for Registration:\n  9 January 2018\n  Ride Organiser:\n Andy Trevelyan\n  027 406 0636\n  andrew.trevelyan@otakaroltd.co.nz\n  \n\n
DTSTAMP:20181224T055250Z
END:VEVENT
END:VCALENDAR
