BEGIN:VCALENDAR
VERSION:2.0
METHOD:PUBLISH
BEGIN:VEVENT
UID:WILD_APRICOT_EVENT_3173691_SESSION_1
DTSTART:20190329T170000Z
DTEND:20190331T090000Z
SUMMARY:Mackenzie Mission
LOCATION:Christchurch - Twizel Return
DESCRIPTION:https://kiwirandonneurs.org.nz/event-3173691\n\nA big weekend out! Take the quieter route around the foothills of the Canterbury Plains before heading up to the iconic Mackenzie Country. Catch some kip in Twizel before returning.\n  RidewithGPS course link\n  \n\n  \n\n
DTSTAMP:20181224T055603Z
END:VEVENT
END:VCALENDAR
