BEGIN:VCALENDAR
VERSION:2.0
METHOD:PUBLISH
BEGIN:VEVENT
UID:WILD_APRICOT_EVENT_3174552_SESSION_1
DTSTART:20190125T170000Z
DTEND:20190126T130000Z
SUMMARY:Fairlie Cruisy 300
LOCATION:Fairlie\, South Canterbuey
DESCRIPTION:https://kiwirandonneurs.org.nz/event-3174552\n\nDescription:\n A nice diverse loop taking in the vast MacKenzie Basin\, Waitaki Valley\, a short section of SH1 and then the quiet backroads through Pareora Gorge back to Fairlie.\n  Photo:\n  Map:\n  \n\n  Route link: \n https://ridewithgps.com/routes/28450587\n  Event Type:\n 300 km (330k)\n  NOTE: This is a BRM ride which can be used as a qualifier for PBP\n  Road surface:\n\n  All sealed\n  Deadline for Registration:\n  9 January 2018\n  Ride Organiser:\n Andy Trevelyan\n  027 406 0636\n  andrew.trevelyan@otakaroltd.co.nz\n  \n\n
DTSTAMP:20181224T055408Z
END:VEVENT
END:VCALENDAR
